BEGIN:VCALENDAR
VERSION:2.0
PRODID:-//DSRC-David Sarnoff Radio Club - ECPv6.15.20//NONSGML v1.0//EN
CALSCALE:GREGORIAN
METHOD:PUBLISH
X-WR-CALNAME:DSRC-David Sarnoff Radio Club
X-ORIGINAL-URL:http://n2re.org
X-WR-CALDESC:Events for DSRC-David Sarnoff Radio Club
REFRESH-INTERVAL;VALUE=DURATION:PT1H
X-Robots-Tag:noindex
X-PUBLISHED-TTL:PT1H
BEGIN:VTIMEZONE
TZID:America/New_York
BEGIN:DAYLIGHT
TZOFFSETFROM:-0500
TZOFFSETTO:-0400
TZNAME:EDT
DTSTART:20250309T070000
END:DAYLIGHT
BEGIN:STANDARD
TZOFFSETFROM:-0400
TZOFFSETTO:-0500
TZNAME:EST
DTSTART:20251102T060000
END:STANDARD
BEGIN:DAYLIGHT
TZOFFSETFROM:-0500
TZOFFSETTO:-0400
TZNAME:EDT
DTSTART:20260308T070000
END:DAYLIGHT
BEGIN:STANDARD
TZOFFSETFROM:-0400
TZOFFSETTO:-0500
TZNAME:EST
DTSTART:20261101T060000
END:STANDARD
BEGIN:DAYLIGHT
TZOFFSETFROM:-0500
TZOFFSETTO:-0400
TZNAME:EDT
DTSTART:20270314T070000
END:DAYLIGHT
BEGIN:STANDARD
TZOFFSETFROM:-0400
TZOFFSETTO:-0500
TZNAME:EST
DTSTART:20271107T060000
END:STANDARD
END:VTIMEZONE
BEGIN:VEVENT
DTSTART;TZID=America/New_York:20260421T180000
DTEND;TZID=America/New_York:20260421T190000
DTSTAMP:20260421T063359
CREATED:20260418T203325Z
LAST-MODIFIED:20260418T203325Z
UID:5098-1776794400-1776798000@n2re.org
SUMMARY:Pre-Meeting Tailgating April 2026
DESCRIPTION:Dress warmly\, bring a chair and a sandwich.  Weather permitting we gather behind the Red Cross to chomp and chat. If rain\, gather at Whole Foods on US1. \n\n\n\n\n\n\n\n\n\n\n\n    \n    \n                        \n                \n    0    \n\n    \n                        \n                \n    0
URL:http://n2re.org/event/pre-meeting-tailgating-april-2026
LOCATION:Behind the Red Cross building\, 707 Alexander Road\, Princeton Junction\, NJ
CATEGORIES:Club Activity
END:VEVENT
BEGIN:VEVENT
DTSTART;TZID=America/New_York:20260421T193000
DTEND;TZID=America/New_York:20260421T210000
DTSTAMP:20260421T063359
CREATED:20260418T203644Z
LAST-MODIFIED:20260418T203645Z
UID:5100-1776799800-1776805200@n2re.org
SUMMARY:April 2026 DSRC Meeting
DESCRIPTION:Club Meeting topics:  How did we do on Pi Day?Be honest with RSTMuseum Ships Weekend Coming upField Day Reservations are IN… Will you be there? \n\n\n\n\n\n\n\n\n\n\n\n    \n    \n                        \n                \n    0    \n\n    \n                        \n                \n    0
URL:http://n2re.org/event/april-2026-dsrc-meeting
LOCATION:American Red Cross\, 707 Alexander Road\, Suite 101\,   Princeton\, NJ 08540.
CATEGORIES:Club Activity,Meeting
END:VEVENT
END:VCALENDAR