BEGIN:VCALENDAR
VERSION:2.0
PRODID:-//DSRC-David Sarnoff Radio Club - ECPv6.15.20//NONSGML v1.0//EN
CALSCALE:GREGORIAN
METHOD:PUBLISH
X-ORIGINAL-URL:http://n2re.org
X-WR-CALDESC:Events for DSRC-David Sarnoff Radio Club
REFRESH-INTERVAL;VALUE=DURATION:PT1H
X-Robots-Tag:noindex
X-PUBLISHED-TTL:PT1H
BEGIN:VTIMEZONE
TZID:America/New_York
BEGIN:DAYLIGHT
TZOFFSETFROM:-0500
TZOFFSETTO:-0400
TZNAME:EDT
DTSTART:20210314T070000
END:DAYLIGHT
BEGIN:STANDARD
TZOFFSETFROM:-0400
TZOFFSETTO:-0500
TZNAME:EST
DTSTART:20211107T060000
END:STANDARD
BEGIN:DAYLIGHT
TZOFFSETFROM:-0500
TZOFFSETTO:-0400
TZNAME:EDT
DTSTART:20220313T070000
END:DAYLIGHT
BEGIN:STANDARD
TZOFFSETFROM:-0400
TZOFFSETTO:-0500
TZNAME:EST
DTSTART:20221106T060000
END:STANDARD
BEGIN:DAYLIGHT
TZOFFSETFROM:-0500
TZOFFSETTO:-0400
TZNAME:EDT
DTSTART:20230312T070000
END:DAYLIGHT
BEGIN:STANDARD
TZOFFSETFROM:-0400
TZOFFSETTO:-0500
TZNAME:EST
DTSTART:20231105T060000
END:STANDARD
END:VTIMEZONE
BEGIN:VEVENT
DTSTART;TZID=America/New_York:20221018T193000
DTEND;TZID=America/New_York:20221018T213000
DTSTAMP:20260424T014626
CREATED:20210217T153724Z
LAST-MODIFIED:20221014T191801Z
UID:463-1666121400-1666128600@n2re.org
SUMMARY:DSRC Club Meeting (Third Tuesday)
DESCRIPTION:Club meets via Webex at 7:30 PM\, topic announced via the e-mail reflector.  Dinner gathering (via Zoom) at 6:15 PM\, check your e-mail that day for details. \n\n    \n    \n                        \n                \n    0    \n\n    \n                        \n                \n    0
URL:http://n2re.org/event/dsrc-club-meeting-third-tuesday
LOCATION:Online
CATEGORIES:Club Activity,Meeting
END:VEVENT
END:VCALENDAR