BEGIN:VCALENDAR
VERSION:2.0
PRODID:-//DSRC-David Sarnoff Radio Club - ECPv6.15.20//NONSGML v1.0//EN
CALSCALE:GREGORIAN
METHOD:PUBLISH
X-ORIGINAL-URL:http://n2re.org
X-WR-CALDESC:Events for DSRC-David Sarnoff Radio Club
REFRESH-INTERVAL;VALUE=DURATION:PT1H
X-Robots-Tag:noindex
X-PUBLISHED-TTL:PT1H
BEGIN:VTIMEZONE
TZID:America/New_York
BEGIN:DAYLIGHT
TZOFFSETFROM:-0500
TZOFFSETTO:-0400
TZNAME:EDT
DTSTART:20210314T070000
END:DAYLIGHT
BEGIN:STANDARD
TZOFFSETFROM:-0400
TZOFFSETTO:-0500
TZNAME:EST
DTSTART:20211107T060000
END:STANDARD
BEGIN:DAYLIGHT
TZOFFSETFROM:-0500
TZOFFSETTO:-0400
TZNAME:EDT
DTSTART:20220313T070000
END:DAYLIGHT
BEGIN:STANDARD
TZOFFSETFROM:-0400
TZOFFSETTO:-0500
TZNAME:EST
DTSTART:20221106T060000
END:STANDARD
BEGIN:DAYLIGHT
TZOFFSETFROM:-0500
TZOFFSETTO:-0400
TZNAME:EDT
DTSTART:20230312T070000
END:DAYLIGHT
BEGIN:STANDARD
TZOFFSETFROM:-0400
TZOFFSETTO:-0500
TZNAME:EST
DTSTART:20231105T060000
END:STANDARD
END:VTIMEZONE
BEGIN:VEVENT
DTSTART;TZID=America/New_York:20221115T193000
DTEND;TZID=America/New_York:20221115T213000
DTSTAMP:20260424T002614
CREATED:20210323T002722Z
LAST-MODIFIED:20221114T194858Z
UID:640-1668540600-1668547800@n2re.org
SUMMARY:DSRC Monthly Meeting
DESCRIPTION:Our first in-person club meeting since… 2020?    \n\n\n\nOur meeting will be “hybrid” with some of us in person\, and others via the Internet.    We have rented a space in Princeton\, on Route 27\, Nassau St from 7:30 PM to 9:30 PM.   \n\n\n\nDAVID SARNOFF RADIO CLUBNOVEMBER 2022 MEETING \n\n\n\n             In-Person Meeting at Tiger Labs\n                Simulcast on Cisco Webex\n\n\n\nTuesday\, Nov 15\, 2022 @ 7:30 PMIn-Person at Tiger Labs (directions below)Simulcast/web on Cisco Webex (login details in e-mail)\n\n\n\nThis month will be our first in-person monthly meeting in nearly3 years. The Red Cross building is still being renovated. Thanksto Rob KE3TI who arranged the rental of the very interestingTiger Labs coworking space in Princeton for this month’s meeting.We will simulcast the meeting for anyone unable to attend in-person. \n\n\n\nTOPICS \n\n\n\nShow and tell – bring stuff to show\, give away\, etc.70cm repeater statusMORE program update – additional trainers needed!Winter Field Day planningAnnual Holiday Party – Saturday December 3 @ 2 PM\, Flaming Grill &Supreme Buffet\, 1051 Whitehorse Mercerville Rd\, Hamilton Twp\, NJ\n\n\n\nDIRECTIONS TO TIGER LABShttp://n2re.org/november-dsrc-meeting-at-tiger-labs \n\n\n\nPRE-MEETING DINNERNothing is planned but there are many food options in Princeton. \n\n\n\n\n\n\n\nIf you would like to eat dinner before the meeting\, perhaps gathering\, you might try Tiger Noodles\, Hoagie Haven\, etc.   If the weather is warm enough\, eating outdoors is possible\, but indoor seating in this part of town is limited. \n\n\n\n \n\n\n\n\n\n\n\nWhether you are coming to the rented space\, or will be taking part via the Internet\, consider donating to the club to cover expenses.   DONATE HERE. \n\n\n\n\n\n    \n    \n                        \n                \n    0    \n\n    \n                        \n                \n    0
URL:http://n2re.org/event/dsrc-monthly-meeting
LOCATION:Hybrid- In Person and Internet
CATEGORIES:Club Activity,Meeting
END:VEVENT
END:VCALENDAR