BEGIN:VCALENDAR
VERSION:2.0
PRODID:-//DSRC-David Sarnoff Radio Club - ECPv6.15.20//NONSGML v1.0//EN
CALSCALE:GREGORIAN
METHOD:PUBLISH
X-ORIGINAL-URL:http://n2re.org
X-WR-CALDESC:Events for DSRC-David Sarnoff Radio Club
REFRESH-INTERVAL;VALUE=DURATION:PT1H
X-Robots-Tag:noindex
X-PUBLISHED-TTL:PT1H
BEGIN:VTIMEZONE
TZID:America/New_York
BEGIN:DAYLIGHT
TZOFFSETFROM:-0500
TZOFFSETTO:-0400
TZNAME:EDT
DTSTART:20220313T070000
END:DAYLIGHT
BEGIN:STANDARD
TZOFFSETFROM:-0400
TZOFFSETTO:-0500
TZNAME:EST
DTSTART:20221106T060000
END:STANDARD
BEGIN:DAYLIGHT
TZOFFSETFROM:-0500
TZOFFSETTO:-0400
TZNAME:EDT
DTSTART:20230312T070000
END:DAYLIGHT
BEGIN:STANDARD
TZOFFSETFROM:-0400
TZOFFSETTO:-0500
TZNAME:EST
DTSTART:20231105T060000
END:STANDARD
BEGIN:DAYLIGHT
TZOFFSETFROM:-0500
TZOFFSETTO:-0400
TZNAME:EDT
DTSTART:20240310T070000
END:DAYLIGHT
BEGIN:STANDARD
TZOFFSETFROM:-0400
TZOFFSETTO:-0500
TZNAME:EST
DTSTART:20241103T060000
END:STANDARD
END:VTIMEZONE
BEGIN:VEVENT
DTSTART;TZID=America/New_York:20230516T183000
DTEND;TZID=America/New_York:20230516T190000
DTSTAMP:20260423T142627
CREATED:20230516T181021Z
LAST-MODIFIED:20230516T181022Z
UID:3058-1684261800-1684263600@n2re.org
SUMMARY:Carpools up to FD site
DESCRIPTION:Starting at Trinity Episcopal Church parking lot in Rocky Hill\, we will carpool (wearing Masks) up to the Field Day Site.  See the main MEETING EVENT for more details and map.  The parking area is currently chained off\, so we have to carpool up.   \n\n\n\n\n\n\n\n\n\n\n\n    \n    \n                        \n                \n    0    \n\n    \n                        \n                \n    0
URL:http://n2re.org/event/carpools-up-to-fd-site
LOCATION:Trinity Episcopal Church\,  Rocky Hill\, NJ 08553\, One Park Avenue\, Rocky Hill\, New Jersey\, 08553\, United States
CATEGORIES:Club Activity,Meeting
END:VEVENT
BEGIN:VEVENT
DTSTART;TZID=America/New_York:20230516T193000
DTEND;TZID=America/New_York:20230516T210000
DTSTAMP:20260423T142627
CREATED:20230429T232024Z
LAST-MODIFIED:20230516T180351Z
UID:2989-1684265400-1684270800@n2re.org
SUMMARY:May Club Meeting- at Rocky Hill
DESCRIPTION:Our Monthly Meeting is in person! \n\n\n\nMeeting Topic: RF Safety and Field Day Planning. \n\n\n\n\n\n\n\nMeeting in the parish hall at: Trinity Episcopal Church Rocky Hill\, One Park Avenue\,  Rocky Hill\, NJ 08553 https://www.trinityrockyhill.org/ \n\n\n\nThe church building is just off Crescent Ave. at Panicaro Park (off 518) \n\n\n\n\n\n\n\nThis month we will meet in-person. We will simulcast the meeting on Webex (see club e-mail from John DeGood) for those unable to attend in person. \n\n\n\n\n\n\n\nEvery year hams should evaluate compliance with RF safety. This meeting we will start with a short program to go over a simple tool reviewed in “Ria’s Ham Shack” and we will talk about antenna RF safety for ARRL Field Day. \n\n\n\n\n\n\n\nFor the main part of the meeting we will have both a brainstorming exercise for using our Field Day site and discussion of written questions at the end. Consider joining or leading teams for Safety\, Antennas\, Setup\, Food (or more) \n\n\n\n\n\n\n\nAlso\, we will talk about Summer Activities during July and August\, and pick a topic for our guest speaker to present at the June Meeting. \n\n\n\n\n\n\n\nWe are grateful to the Trinity Church and to Bob WA2BSP for arranging the meeting space!  Please bring some small bills to donate to the congregation. \n\n\n\n\n\n\n\nALSO: Before the meeting you are invited to visit the Field Day site\, 1 mile up the hill on Route 518\, However\, be careful! \n\n\n\n\n\n\n\n\nThe FD site’s driveway has a chain across it\, you cannot drive up the driveway. AND…\n\n\n\nYou can pull off the road on the Westbound side of Route 518 ONLY.  Drive east from Rocky Hill (toward Franklin Park)\, turn around and come back west to the site. AND…\n\n\n\nRoute 518 is high speed and goes around a blind corner at the driveway SIGNAL AND SLOW DOWN.\n\n\n\n\n\n\n\n\nField Day site is at:   40.402757\, -74.613714  lat/lon  on the WESTBOUND site (actually\, going southwest at this point.)  When you are there\, you will see why we selected the site. However\, we have not cleaned up the parking area\, so be safe from ticks and rose bushes! \n\n\n\n\n\n\n\nFD Site is about 1 mile from Church in Rocky Hill  (North is up)\n\n\n\n\n\n\n\n\n\n\n\n    \n    \n                        \n                \n    0    \n\n    \n                        \n                \n    0
URL:http://n2re.org/event/may-club-meeting
LOCATION:Trinity Episcopal Church\,  Rocky Hill\, NJ 08553\, One Park Avenue\, Rocky Hill\, New Jersey\, 08553\, United States
CATEGORIES:Club Activity,Meeting
ATTACH;FMTTYPE=image/jpeg:http://n2re.org/wp-content/uploads/2023/04/Trinity-Church52.jpeg
END:VEVENT
END:VCALENDAR