BEGIN:VCALENDAR
VERSION:2.0
PRODID:-//DSRC-David Sarnoff Radio Club - ECPv6.15.20//NONSGML v1.0//EN
CALSCALE:GREGORIAN
METHOD:PUBLISH
X-ORIGINAL-URL:http://n2re.org
X-WR-CALDESC:Events for DSRC-David Sarnoff Radio Club
REFRESH-INTERVAL;VALUE=DURATION:PT1H
X-Robots-Tag:noindex
X-PUBLISHED-TTL:PT1H
BEGIN:VTIMEZONE
TZID:America/New_York
BEGIN:DAYLIGHT
TZOFFSETFROM:-0500
TZOFFSETTO:-0400
TZNAME:EDT
DTSTART:20220313T070000
END:DAYLIGHT
BEGIN:STANDARD
TZOFFSETFROM:-0400
TZOFFSETTO:-0500
TZNAME:EST
DTSTART:20221106T060000
END:STANDARD
BEGIN:DAYLIGHT
TZOFFSETFROM:-0500
TZOFFSETTO:-0400
TZNAME:EDT
DTSTART:20230312T070000
END:DAYLIGHT
BEGIN:STANDARD
TZOFFSETFROM:-0400
TZOFFSETTO:-0500
TZNAME:EST
DTSTART:20231105T060000
END:STANDARD
BEGIN:DAYLIGHT
TZOFFSETFROM:-0500
TZOFFSETTO:-0400
TZNAME:EDT
DTSTART:20240310T070000
END:DAYLIGHT
BEGIN:STANDARD
TZOFFSETFROM:-0400
TZOFFSETTO:-0500
TZNAME:EST
DTSTART:20241103T060000
END:STANDARD
END:VTIMEZONE
BEGIN:VEVENT
DTSTART;TZID=America/New_York:20230919T193000
DTEND;TZID=America/New_York:20230919T213000
DTSTAMP:20260423T072819
CREATED:20230731T210155Z
LAST-MODIFIED:20230918T165603Z
UID:3226-1695151800-1695159000@n2re.org
SUMMARY:Sept 2023 Club Meeting
DESCRIPTION:TOPIC:  Field Day Review– Charlie Dieterich N2CTW & Bob Uhrik WA2BSPHow I Spent My Summer– DSRC Members \n\n\n\nWHERE:  We are back at the Red Cross Building!707 Alexander Road\, Suite 101Princeton\, NJ 08540  (actually\, West Windsor\, off US Route 1)or… via Webex (details in e-mail) \n\n\n\nEntry is from the parking lot side of the Red Cross building\, not the Alexander Road Side.  Use the main blood center entrance. Proceed down the hallway just to the left of the reception desk. The training room is on the left. \n\n\n\nNOTE: No food in the building\, but come to our informal pre-meeting dinner. \n\n\n\nThe building’s website: https://www.redcross.org/local/new-jersey/about-us/locations/central-new-jersey.html \n\n\n\n\n\n\n\n\n\n    \n    \n                        \n                \n    0    \n\n    \n                        \n                \n    0
URL:http://n2re.org/event/sept-2023-club-meeting
CATEGORIES:Club Activity,Meeting
END:VEVENT
END:VCALENDAR