BEGIN:VCALENDAR
VERSION:2.0
PRODID:-//DSRC-David Sarnoff Radio Club - ECPv6.15.20//NONSGML v1.0//EN
CALSCALE:GREGORIAN
METHOD:PUBLISH
X-ORIGINAL-URL:http://n2re.org
X-WR-CALDESC:Events for DSRC-David Sarnoff Radio Club
REFRESH-INTERVAL;VALUE=DURATION:PT1H
X-Robots-Tag:noindex
X-PUBLISHED-TTL:PT1H
BEGIN:VTIMEZONE
TZID:America/New_York
BEGIN:DAYLIGHT
TZOFFSETFROM:-0500
TZOFFSETTO:-0400
TZNAME:EDT
DTSTART:20220313T070000
END:DAYLIGHT
BEGIN:STANDARD
TZOFFSETFROM:-0400
TZOFFSETTO:-0500
TZNAME:EST
DTSTART:20221106T060000
END:STANDARD
BEGIN:DAYLIGHT
TZOFFSETFROM:-0500
TZOFFSETTO:-0400
TZNAME:EDT
DTSTART:20230312T070000
END:DAYLIGHT
BEGIN:STANDARD
TZOFFSETFROM:-0400
TZOFFSETTO:-0500
TZNAME:EST
DTSTART:20231105T060000
END:STANDARD
BEGIN:DAYLIGHT
TZOFFSETFROM:-0500
TZOFFSETTO:-0400
TZNAME:EDT
DTSTART:20240310T070000
END:DAYLIGHT
BEGIN:STANDARD
TZOFFSETFROM:-0400
TZOFFSETTO:-0500
TZNAME:EST
DTSTART:20241103T060000
END:STANDARD
END:VTIMEZONE
BEGIN:VEVENT
DTSTART;TZID=America/New_York:20231017T193000
DTEND;TZID=America/New_York:20231017T213000
DTSTAMP:20260421T080746
CREATED:20230918T171846Z
LAST-MODIFIED:20230918T171847Z
UID:3328-1697571000-1697578200@n2re.org
SUMMARY:Monthly Meeting Oct 2023
DESCRIPTION:At the Red Cross\, 707 Alexander Rd.  More details later. \n\n\n\n\n\n\n\n\n\n\n\n    \n    \n                        \n                \n    0    \n\n    \n                        \n                \n    0
URL:http://n2re.org/event/monthly-meeting-oct-2023
CATEGORIES:Club Activity,Meeting
END:VEVENT
END:VCALENDAR