BEGIN:VCALENDAR
VERSION:2.0
PRODID:-//DSRC-David Sarnoff Radio Club - ECPv6.15.20//NONSGML v1.0//EN
CALSCALE:GREGORIAN
METHOD:PUBLISH
X-ORIGINAL-URL:http://n2re.org
X-WR-CALDESC:Events for DSRC-David Sarnoff Radio Club
REFRESH-INTERVAL;VALUE=DURATION:PT1H
X-Robots-Tag:noindex
X-PUBLISHED-TTL:PT1H
BEGIN:VTIMEZONE
TZID:America/New_York
BEGIN:DAYLIGHT
TZOFFSETFROM:-0500
TZOFFSETTO:-0400
TZNAME:EDT
DTSTART:20230312T070000
END:DAYLIGHT
BEGIN:STANDARD
TZOFFSETFROM:-0400
TZOFFSETTO:-0500
TZNAME:EST
DTSTART:20231105T060000
END:STANDARD
BEGIN:DAYLIGHT
TZOFFSETFROM:-0500
TZOFFSETTO:-0400
TZNAME:EDT
DTSTART:20240310T070000
END:DAYLIGHT
BEGIN:STANDARD
TZOFFSETFROM:-0400
TZOFFSETTO:-0500
TZNAME:EST
DTSTART:20241103T060000
END:STANDARD
BEGIN:DAYLIGHT
TZOFFSETFROM:-0500
TZOFFSETTO:-0400
TZNAME:EDT
DTSTART:20250309T070000
END:DAYLIGHT
BEGIN:STANDARD
TZOFFSETFROM:-0400
TZOFFSETTO:-0500
TZNAME:EST
DTSTART:20251102T060000
END:STANDARD
END:VTIMEZONE
BEGIN:VEVENT
DTSTART;TZID=America/New_York:20241119T193000
DTEND;TZID=America/New_York:20241119T213000
DTSTAMP:20260422T052117
CREATED:20240918T144011Z
LAST-MODIFIED:20241119T152943Z
UID:4085-1732044600-1732051800@n2re.org
SUMMARY:DSRC Nov 2024 meeting
DESCRIPTION:Our last Club Meeting of 2024  (But come to the Holiday party!) \n\n\n\n\n\n\n\nWhile it’s possible to use cheap ($20) Chinese HTs for digital modes such as APRS and VARA\, commercial USB sound card interfaces cost far more than the HT itself. John NU3E will present his experiments with USB interfaces much closer in price to the HT. He will also discuss operating considerations when using an HT for digital modes. \n\n\n\n\n\n\n\nLaura K2WWF and Cushla KD2TCH will discuss plans for the annual DSRC holiday party.  (see DSRC e-mail from John DeGood for REGISTRATION)  We will continue planning for Winter Field Day and Pi Day. \n\n\n\n\n\n\n\nThere will be discussion about the recent N2RE repeater repairs\,the 2024 Field Day results\, the MORE Project\, and our Tuesday DSRCVHF nets. \n\n\n\n\n\n\n\n\n\n\n\n    \n    \n                        \n                \n    0    \n\n    \n                        \n                \n    0
URL:http://n2re.org/event/dsrc-nov-2024-meeting
LOCATION:American Red Cross\, 707 Alexander Road\, Suite 101\,   Princeton\, NJ 08540.
CATEGORIES:Club Activity,Meeting
END:VEVENT
END:VCALENDAR