BEGIN:VCALENDAR
VERSION:2.0
PRODID:-//DSRC-David Sarnoff Radio Club - ECPv6.15.20//NONSGML v1.0//EN
CALSCALE:GREGORIAN
METHOD:PUBLISH
X-WR-CALNAME:DSRC-David Sarnoff Radio Club
X-ORIGINAL-URL:http://n2re.org
X-WR-CALDESC:Events for DSRC-David Sarnoff Radio Club
REFRESH-INTERVAL;VALUE=DURATION:PT1H
X-Robots-Tag:noindex
X-PUBLISHED-TTL:PT1H
BEGIN:VTIMEZONE
TZID:America/New_York
BEGIN:DAYLIGHT
TZOFFSETFROM:-0500
TZOFFSETTO:-0400
TZNAME:EDT
DTSTART:20230312T070000
END:DAYLIGHT
BEGIN:STANDARD
TZOFFSETFROM:-0400
TZOFFSETTO:-0500
TZNAME:EST
DTSTART:20231105T060000
END:STANDARD
BEGIN:DAYLIGHT
TZOFFSETFROM:-0500
TZOFFSETTO:-0400
TZNAME:EDT
DTSTART:20240310T070000
END:DAYLIGHT
BEGIN:STANDARD
TZOFFSETFROM:-0400
TZOFFSETTO:-0500
TZNAME:EST
DTSTART:20241103T060000
END:STANDARD
BEGIN:DAYLIGHT
TZOFFSETFROM:-0500
TZOFFSETTO:-0400
TZNAME:EDT
DTSTART:20250309T070000
END:DAYLIGHT
BEGIN:STANDARD
TZOFFSETFROM:-0400
TZOFFSETTO:-0500
TZNAME:EST
DTSTART:20251102T060000
END:STANDARD
BEGIN:DAYLIGHT
TZOFFSETFROM:-0500
TZOFFSETTO:-0400
TZNAME:EDT
DTSTART:20260308T070000
END:DAYLIGHT
BEGIN:STANDARD
TZOFFSETFROM:-0400
TZOFFSETTO:-0500
TZNAME:EST
DTSTART:20261101T060000
END:STANDARD
BEGIN:DAYLIGHT
TZOFFSETFROM:-0500
TZOFFSETTO:-0400
TZNAME:EDT
DTSTART:20270314T070000
END:DAYLIGHT
BEGIN:STANDARD
TZOFFSETFROM:-0400
TZOFFSETTO:-0500
TZNAME:EST
DTSTART:20271107T060000
END:STANDARD
END:VTIMEZONE
BEGIN:VEVENT
DTSTART;TZID=America/New_York:20241125T190000
DTEND;TZID=America/New_York:20241125T203000
DTSTAMP:20260423T111241
CREATED:20241119T171453Z
LAST-MODIFIED:20241119T171453Z
UID:4176-1732561200-1732566600@n2re.org
SUMMARY:ARES/RACES night - Listen in!
DESCRIPTION:Monthly test of ARES and RACES state-wide\, and Red Cross contacts.   Consider volunteering with Mercer County ARES\, see the link to learn how: \n\n\n\nhttp://n2re.org/readiness-red-cross-ares-races-etc \n\n\n\n\n\n\n\n\n\n\n\n    \n    \n                        \n                \n    0    \n\n    \n                        \n                \n    0
URL:http://n2re.org/event/ares-races-night-listen-in
CATEGORIES:ARES,Operating Event,Related Groups
END:VEVENT
BEGIN:VEVENT
DTSTART;TZID=America/New_York:20241126T210000
DTEND;TZID=America/New_York:20241126T213000
DTSTAMP:20260423T111241
CREATED:20241119T145352Z
LAST-MODIFIED:20241119T145353Z
UID:4138-1732654800-1732656600@n2re.org
SUMMARY:DSRC Net 4th Tues
DESCRIPTION:146.46 repeater for a weekly check-in for the club and friends.  All are invited.  \n\n\n\n\n\n\n\n\n\n\n\n    \n    \n                        \n                \n    0    \n\n    \n                        \n                \n    0
URL:http://n2re.org/event/dsrc-net-4th-tues
LOCATION:146.46 MHz  Repeater
CATEGORIES:2 Meter FM Net,Club Activity,On-Air Net,Operating Event
END:VEVENT
BEGIN:VEVENT
DTSTART;TZID=America/New_York:20241203T210000
DTEND;TZID=America/New_York:20241203T213000
DTSTAMP:20260423T111241
CREATED:20241119T145720Z
LAST-MODIFIED:20241119T151311Z
UID:4140-1733259600-1733261400@n2re.org
SUMMARY:DSRC Net 1st Tues Dec 3\, 2024
DESCRIPTION:It was the third of December…. but this time it’s the night for our 2 Meter Net. Easygoing\, using our 2 meter repeater. All are welcome.   (Got any last-minute questions about our Holiday Party and gift exchange?  This is a good moment to ask them!) \n\n\n\n\n\n\n\n\n\n\n\n    \n    \n                        \n                \n    0    \n\n    \n                        \n                \n    0
URL:http://n2re.org/event/dsrc-net-1st-tues-dec-24
LOCATION:146.46 MHz  Repeater
CATEGORIES:Club Activity,On-Air Net,Operating Event
END:VEVENT
BEGIN:VEVENT
DTSTART;TZID=America/New_York:20241224T203000
DTEND;TZID=America/New_York:20241224T210000
DTSTAMP:20260423T111241
CREATED:20241119T151541Z
LAST-MODIFIED:20241222T232252Z
UID:4154-1735072200-1735074000@n2re.org
SUMMARY:Flying Reindeer Net
DESCRIPTION:Special Time\, Special Format:   One Round only with question:   \n\n\n\n8:30 PM “Have you seen any flying reindeer tonight?”  — Check in\, file your report and maybe wish others Merry Christmas\, Joyous Hanukkah\, or whatever you wish! \n\n\n\n\n\n\n\n\n\n\n\n    \n    \n                        \n                \n    0    \n\n    \n                        \n                \n    0
URL:http://n2re.org/event/night-before-christmas-net
LOCATION:146.46 MHz  Repeater
CATEGORIES:2 Meter FM Net,Club Activity,On-Air Net,Operating Event
END:VEVENT
BEGIN:VEVENT
DTSTART;TZID=America/New_York:20241231T190000
DTEND;TZID=America/New_York:20241231T193000
DTSTAMP:20260423T111241
CREATED:20241119T152034Z
LAST-MODIFIED:20241222T232855Z
UID:4156-1735671600-1735673400@n2re.org
SUMMARY:Happy UTC New Year (Special time)
DESCRIPTION:SPECIAL Net– 7 PM\, one round 2 Meter check in for club members and friends\, especially for those getting ready for Straight Key Night (which starts at 0000Z)  to wish others a Happy New Year.   Location: DSRC Repeater– Lawrence Township \n\n\n\n\n\n\n\n\n\n\n\n\n\n\n\n    \n    \n                        \n                \n    0    \n\n    \n                        \n                \n    0
URL:http://n2re.org/event/dsrc-what-are-you-doing
LOCATION:146.46 MHz  Repeater
CATEGORIES:2 Meter FM Net,Club Activity,On-Air Net,Operating Event
ATTACH;FMTTYPE=image/jpeg:http://n2re.org/wp-content/uploads/2020/11/sarnoff.jpg
END:VEVENT
BEGIN:VEVENT
DTSTART;TZID=America/New_York:20250107T210000
DTEND;TZID=America/New_York:20250107T213000
DTSTAMP:20260423T111241
CREATED:20241119T152702Z
LAST-MODIFIED:20241119T152703Z
UID:4161-1736283600-1736285400@n2re.org
SUMMARY:Weekly Nets begin for 2025
DESCRIPTION:Our Club Repeater in Lawrence Township hosts weekly 9 PM nets whenever we don’t have a club meeting (third Tuesdays\, that is)  Join us! \n\n\n\n\n\n\n\n\n\n\n\n    \n    \n                        \n                \n    0    \n\n    \n                        \n                \n    0
URL:http://n2re.org/event/weekly-nets-begin-for-2025
LOCATION:146.46 MHz  Repeater
CATEGORIES:2 Meter FM Net,Club Activity,On-Air Net,Operating Event
END:VEVENT
BEGIN:VEVENT
DTSTART;TZID=America/New_York:20250125T110000
DTEND;TZID=America/New_York:20250126T170000
DTSTAMP:20260423T111241
CREATED:20240918T144525Z
LAST-MODIFIED:20250117T125013Z
UID:4089-1737802800-1737910800@n2re.org
SUMMARY:Winter Field Day 25!
DESCRIPTION:Yes\, Winter Field Day– two days (but not overnight) of operating in “less than ideal” conditions! Get your rigs ready. Get your gloves ready!  Beginners MORE THAN WELCOME.  \n\n\n\nhttp://n2re.org/winter-field-day-resources  has details of how to get there\, and the latest planning information.   \n\n\n\n\n\n\n\nThis year’s 2025 rules (see tab on this page) emphasize modes and bands\, and emergency operations.  We can’t use a generator at the site we selected\, we can’t operate overnight\, but we can put up tents\, antennas\, and learn lots about how to come together to communicate. \n\n\n\nLast year we were stymied by sunset… as we only had 3 hours on Saturday and maybe 4 on Sunday morning.   This year the rules extend WFD to start at 11 AM EST\, so we can go on the air as soon as we have a station set up!  Also\, on Sunday we can operate until 5 PM\, which allows us to get “6 Hours In A Row” as an objective.    \n\n\n\n\n\n\n\nHere’s a link to last year’s Wrap Up  \n\n\n\nLocation is woodlot park\,  South Brunswick  (Kendall Park area)  see LINK \n\n\n\n\n\n\n\n\n\n\n\n    \n    \n                        \n                \n    0    \n\n    \n                        \n                \n    0
URL:http://n2re.org/event/winter-field-day-25
CATEGORIES:Club Activity,Operating Event
END:VEVENT
BEGIN:VEVENT
DTSTART;TZID=America/New_York:20250314T140000
DTEND;TZID=America/New_York:20250314T210000
DTSTAMP:20260423T111241
CREATED:20241119T152308Z
LAST-MODIFIED:20260218T222957Z
UID:4158-1741960800-1741986000@n2re.org
SUMMARY:Pi Day 2025
DESCRIPTION:FOR THIS YEAR’S PI DAY visit   https://n2re.org/pi-day-special-event \n\n\n\n\n\n\n\nContact N3P on Pi Day\, 2025 3.14.25 \n\n\n\nIf Albert Einstein had been a ham… what would he have looked like?\n\n\n\nTime for Princeton Pi Day Celebration 2025! The DSRC celebrates “3.14” March 14th with an on-the-air festival of contacts with our special event callsign celebrating the number PI — N3P. Hope to talk to you then!    Princeton’s most famous resident\, Albert Einstein\, celebrated his birthday as March 14th (was it real? we don’t know); Princeton NJ still celebrates his memory. \n\n\n\n\n\n\n\nThis year we scaled back our celebration to concentrate on our roots! Four stations around Princeton\, New Jersey\, USA will be sharing Pi Day wishes in honor of 3.14\, Pi day 2025. \n\n\n\nMarch 14 is important in the Princeton area because it was said that Albert Einstein’s birthday was on Pi Day\, and he lived in Princeton later in life. \n\n\n\nWe will be using CW and SSB\, two modes in existence during his lifetime. Listen for N3P near these HF frequencies: \n\n\n\n14.031  CW\,  14.314 USB \n\n\n\n7.031 CW\, 7.227  (Pi is approximately 22/7th) LSB \n\n\n\nWe may also be monitoring the David Sarnoff Radio Club repeater\, 146.46 (see LINK) for local contacts\, and maybe some other band/modes. \n\n\n\nEarly in his life\, our club’s namesake David Sarnoff sent cw around the world\, could it be that he too contemplated Pi? (later in life\, David Sarnoff was president of RCA Corporation\, where our club started) \n\n\n\nCard shows David Sarnoff as radio operator around the time of the the Titanic Disaster\, and Albert Einstein during his days at the Institute for Advance Studies in Princeton\, NJ.   Are they both contemplating Pi?\n\n\n\nN3P is listed in the ARRL Special Event database  and on QRZ.com \n\n\n\n\n\n\n\n\n\n\n\n    \n    \n                        \n                \n    0    \n\n    \n                        \n                \n    0
URL:http://n2re.org/event/pi-day-2025
CATEGORIES:Club Activity,On-Air Net,Operating Event
ATTACH;FMTTYPE=image/jpeg:http://n2re.org/wp-content/uploads/2024/02/Pi-Day-Text.jpg
END:VEVENT
BEGIN:VEVENT
DTSTART;TZID=America/New_York:20250606T200000
DTEND;TZID=America/New_York:20250608T200000
DTSTAMP:20260423T111241
CREATED:20250421T185506Z
LAST-MODIFIED:20250526T184646Z
UID:4457-1749240000-1749412800@n2re.org
SUMMARY:NJ2BB Museum Ships Weekend Event
DESCRIPTION:Worldwide event starts 0000 UTC June 7 (that’s Friday\, 8PM Eastern Time) \n\n\n\n\n\n\n\nNJ2BB\, the Battleship New Jersey Amateur Radio Station is\, once again\, sponsoring a fun event– with over 100 ship-based museums on the air from 0000Z on 07 Jun 2025  all the way to 2359Z on 08 Jun 2025\, on all bands and (almost) all modes (yes- AM on 75 Meters!) \n\n\n\nFrom Battleships to Submarines to Tugboats and Paddle Steamers and even a Sailing Barque\, look for them all on the air!  \n\n\n\n\n\n\n\nRules\, lists and more at: https://nj2bb.org/museum/index.html(Ends Sunday at 8 PM EDT) \n\n\n\nAntennas on the superstructure (2004 photo) n2ctw\n\n\n\n\n\n\n\n\n\n\n\n    \n    \n                        \n                \n    0    \n\n    \n                        \n                \n    0
URL:http://n2re.org/event/nj2bb-museum-ships-weekend-event
CATEGORIES:News,Operating Event,Related Groups
ATTACH;FMTTYPE=image/jpeg:http://n2re.org/wp-content/uploads/2022/08/InWWII-Rcvr-Room_20220813_115149.jpg
END:VEVENT
BEGIN:VEVENT
DTSTART;TZID=America/New_York:20250627T170000
DTEND;TZID=America/New_York:20250627T193000
DTSTAMP:20260423T111241
CREATED:20250421T191437Z
LAST-MODIFIED:20250511T161919Z
UID:4463-1751043600-1751052600@n2re.org
SUMMARY:N2RE FD Setup
DESCRIPTION:Prep the Field Day site for this year’s Field Day deployment!!  Weed whacking\, station placement\, and all sorts of other prep work.   Wear long pants and boots.   \n\n\n\n\nN2RE FD 2025 Web Page\n\n\n\n\n  \n\n\n\nLocation: \n\n\n\nFrom Rocky Hill: Route 518 one mile east of Rocky Hill bridge UP the hill.Turn Left at the second left turn– the one that doesn’t have a wooden gate \n\n\n\nFrom Kendall Park\, NJ: Take NJ Route 27 South\,Turn Right onto Route 518 (Georgetown-Franklin Turnpike) to the west.After the level part of Route 518\, the farms will give way to forest. \n\n\n\nThere is a double driveway on the right\, take the further (gravel) driveway up the hill and curve to the LEFT. \n\n\n\n108 Georgetown-Franklin turnpike\, Princeton\, NJ 08540 \n\n\n\nhere is the lat\,lon: 40.40267649776452\, -74.61275770727383 \n\n\n\nMap of Princeton area with site at top (north). FD site is on Route 518.\n\n\n\n\n\n\n\n\n\n\n\n    \n    \n                        \n                \n    0    \n\n    \n                        \n                \n    0
URL:http://n2re.org/event/n2re-fd-setup
CATEGORIES:Club Activity,Operating Event
END:VEVENT
BEGIN:VEVENT
DTSTART;TZID=America/New_York:20250628T000000
DTEND;TZID=America/New_York:20250629T235959
DTSTAMP:20260423T111241
CREATED:20240629T155854Z
LAST-MODIFIED:20250511T162417Z
UID:4005-1751068800-1751241599@n2re.org
SUMMARY:Field Day 2025
DESCRIPTION:ARRL Field Day is always held on the 4th full weekend in June. \n\n\n\nWe are recruiting new hams (or inactive hams) to operate an “GET ON THE AIR” station… don’t worry\, we will have coaches to help you with the pileups! Operating for 24 hours\, if the weather’s good– join those who want to stay up all night! \n\n\n\n\nN2RE FD 2025 Web Page\n\n\n\n\n\n\n\n\nThis will be the David Sarnoff Radio Club’s best Field Day EVER!!   #ARRLFD \n\n\n\n\n\n\n\n\n\n\n\n    \n    \n                        \n                \n    0    \n\n    \n                        \n                \n    0
URL:http://n2re.org/event/field-day-event-2025
CATEGORIES:Club Activity,Operating Event
END:VEVENT
BEGIN:VEVENT
DTSTART;TZID=America/New_York:20260124T080000
DTEND;TZID=America/New_York:20260125T140000
DTSTAMP:20260423T111241
CREATED:20251008T013202Z
LAST-MODIFIED:20260124T030141Z
UID:4836-1769241600-1769349600@n2re.org
SUMMARY:Winter Field Day
DESCRIPTION:Our Club has been participating in one of the coolest events of the year… Winter Field Day\, where we go out into a park and set up stations\, operating on Saturday and Sunday with rules that are somewhat similar to ARRL Field Day\, but with a twist. \n\n\n\n\n\n\n\nTHIS YEAR WE HAVE A REAL EMERGENCY… extreme cold\, and snow.  So we will operate Winter Field Day at the American Red Cross offices in West Windsor\, where we hold our monthly meetings (see directions on this page:) https://n2re.org/about-us#directions \n\n\n\n\n\n\n\n“Move to a safer location”  –This is a last-minute change!  For more details…. as we add them\, see:  https://n2re.org/winter-field-day-2026 \n\n\n\n\n\n\n\nWell\, it’s finally here!  We plan to operate N2RE on Saturday only… Sunday will probably be a state of emergency.     Listen for us on 2 (148.52 or 55) and 446.00 for a quick contact. \n\n\n\n\n\n\n\n\n\n\n\n    \n    \n                        \n                \n    0    \n\n    \n                        \n                \n    0
URL:http://n2re.org/event/winter-field-day-3
LOCATION:American Red Cross\, 707 Alexander Road\, Suite 101\,   Princeton\, NJ 08540.
CATEGORIES:Club Activity,Operating Event
END:VEVENT
BEGIN:VEVENT
DTSTART;TZID=America/New_York:20260605T200000
DTEND;TZID=America/New_York:20260607T200000
DTSTAMP:20260423T111241
CREATED:20260418T210416Z
LAST-MODIFIED:20260418T212342Z
UID:5118-1780689600-1780862400@n2re.org
SUMMARY:OnAir: Museum Ships
DESCRIPTION:Tour the world\, one ship at a time!Museum Ships Weekend Event invites you to visit with 65 different ships from Toledo to Bremerhaven over a 48 hour period.  Get the details at the Battleship New Jersey Amateur Radio Station\, NJ2BB.ORGHere’s the List of participants \n\n\n\n\n\n\n\n\n\n\n\n    \n    \n                        \n                \n    0    \n\n    \n                        \n                \n    0
URL:http://n2re.org/event/onair-museum-ships
CATEGORIES:Operating Event,Related Groups
END:VEVENT
BEGIN:VEVENT
DTSTART;TZID=America/New_York:20260626T160000
DTEND;TZID=America/New_York:20260626T180000
DTSTAMP:20260423T111241
CREATED:20260418T212114Z
LAST-MODIFIED:20260418T213143Z
UID:5131-1782489600-1782496800@n2re.org
SUMMARY:Field Day Setup
DESCRIPTION:Not sure about the time.. but we need to prepare the site for Saturday morning!! \n\n\n\n\n\n\n\n\n\n\n\n    \n    \n                        \n                \n    0    \n\n    \n                        \n                \n    0
URL:http://n2re.org/event/field-day-setup
CATEGORIES:Club Activity,Operating Event
END:VEVENT
BEGIN:VEVENT
DTSTART;TZID=America/New_York:20260627T090000
DTEND;TZID=America/New_York:20260628T160000
DTSTAMP:20260423T111241
CREATED:20260418T212301Z
LAST-MODIFIED:20260419T011558Z
UID:5133-1782550800-1782662400@n2re.org
SUMMARY:Field Day starts 2 PM
DESCRIPTION:DSRC Field Day… newcomers can help\, new hams can operate GOTA… more as things approach. \n\n\n\nMore info:   https://www.arrl.org/field-day \n\n\n\n\n\n\n\n\n\n\n\n    \n    \n                        \n                \n    0    \n\n    \n                        \n                \n    0
URL:http://n2re.org/event/field-day-starts-2-pm
CATEGORIES:Club Activity,Operating Event
END:VEVENT
END:VCALENDAR