BEGIN:VCALENDAR
VERSION:2.0
PRODID:-//DSRC-David Sarnoff Radio Club - ECPv6.15.20//NONSGML v1.0//EN
CALSCALE:GREGORIAN
METHOD:PUBLISH
X-ORIGINAL-URL:http://n2re.org
X-WR-CALDESC:Events for DSRC-David Sarnoff Radio Club
REFRESH-INTERVAL;VALUE=DURATION:PT1H
X-Robots-Tag:noindex
X-PUBLISHED-TTL:PT1H
BEGIN:VTIMEZONE
TZID:America/New_York
BEGIN:DAYLIGHT
TZOFFSETFROM:-0500
TZOFFSETTO:-0400
TZNAME:EDT
DTSTART:20200308T070000
END:DAYLIGHT
BEGIN:STANDARD
TZOFFSETFROM:-0400
TZOFFSETTO:-0500
TZNAME:EST
DTSTART:20201101T060000
END:STANDARD
BEGIN:DAYLIGHT
TZOFFSETFROM:-0500
TZOFFSETTO:-0400
TZNAME:EDT
DTSTART:20210314T070000
END:DAYLIGHT
BEGIN:STANDARD
TZOFFSETFROM:-0400
TZOFFSETTO:-0500
TZNAME:EST
DTSTART:20211107T060000
END:STANDARD
BEGIN:DAYLIGHT
TZOFFSETFROM:-0500
TZOFFSETTO:-0400
TZNAME:EDT
DTSTART:20220313T070000
END:DAYLIGHT
BEGIN:STANDARD
TZOFFSETFROM:-0400
TZOFFSETTO:-0500
TZNAME:EST
DTSTART:20221106T060000
END:STANDARD
END:VTIMEZONE
BEGIN:VEVENT
DTSTART;VALUE=DATE:20210314
DTEND;VALUE=DATE:20210315
DTSTAMP:20260423T085308
CREATED:20201114T165531Z
LAST-MODIFIED:20210219T150524Z
UID:86-1615680000-1615766399@n2re.org
SUMMARY:Pi Day 2021- 3.14   Special Event Station
DESCRIPTION:Join us for our annual celebration of PI Day – March 14th which is 3.14 or the first three digits of π. PI is an interesting number which never repeats or ends; kind of irrational. \nRunning on March 14\, 2021 from midnight EST to midnight EDT it is also a celebration of the birth of noted Princeton resident Albert Einstein. On a sad note\, it also it marks the passing of physicist Stephen Hawking. \nTo obtain a QSL card send your card with CALLSIGN\, UTC\, BAND\, MODE and STATE to:\nBob Uhrik\, WA2BSP\,\n104 Knoll Way\,\nRocky Hill\, NJ 08553 USA.\n  Please include an SASE. \nMembers of our Princeton-based club will be using the club callsign N2RE. \nOperating frequencies (approximate) 14.250\, 7.200\, SSB; 7.050\, 14.050 CW  or on our 146.46 repeater \n(members: see your e-mail for more details) \n\n    \n    \n                        \n                \n    0    \n\n    \n                        \n                \n    0
URL:http://n2re.org/event/pi-day-2021
LOCATION:HF General Class subbands
CATEGORIES:Club Activity,News,Operating Event
END:VEVENT
BEGIN:VEVENT
DTSTART;TZID=America/New_York:20210320T090000
DTEND;TZID=America/New_York:20210320T140000
DTSTAMP:20260423T085308
CREATED:20201117T013511Z
LAST-MODIFIED:20210302T202725Z
UID:159-1616230800-1616248800@n2re.org
SUMMARY:Trenton Computer Fest - Ham Cram
DESCRIPTION:TCF2021: Saturday March 20\, 2021\nFollow THIS LINK to our page describing the Ham Cram at Trenton Computer Fest 2021 \n\n    \n    \n                        \n                \n    0    \n\n    \n                        \n                \n    0
URL:http://n2re.org/event/trenton-computer-fest-ham-cram
LOCATION:Part of TCF- Online
CATEGORIES:Club Activity,News
END:VEVENT
END:VCALENDAR